BEGIN:VCALENDAR
VERSION:2.0
PRODID:-//hacksw/handcal//NONSGML v1.0//EN
CALSCALE:GREGORIAN
BEGIN:VEVENT
LOCATION:Les Salons rue Jean-F. Bartholoni 6 1204 Genève
DESCRIPTION:INGE
DTSTART:20260902T183000
DTEND:20260902T200000
SUMMARY:Table ronde : Quelle information de qualité face au tsunami médiatique ?
URL;VALUE=URI:https://inge.ch/evenements/table-ronde-quelle-information-de-qualite-face-au-tsunami-mediatique/
DTSTAMP:20260422T090500Z
UID:69e88f3c4fe9b
END:VEVENT
END:VCALENDAR